BEGIN:VCALENDAR
VERSION:2.0
PRODID:-//UCLA Health - ECPv6.15.12.2//NONSGML v1.0//EN
CALSCALE:GREGORIAN
METHOD:PUBLISH
X-WR-CALNAME:UCLA Health
X-ORIGINAL-URL:https://www.uclahealthcareers.org
X-WR-CALDESC:Events for UCLA Health
REFRESH-INTERVAL;VALUE=DURATION:PT1H
X-Robots-Tag:noindex
X-PUBLISHED-TTL:PT1H
BEGIN:VTIMEZONE
TZID:America/Los_Angeles
BEGIN:DAYLIGHT
TZOFFSETFROM:-0800
TZOFFSETTO:-0700
TZNAME:PDT
DTSTART:20250309T100000
END:DAYLIGHT
BEGIN:STANDARD
TZOFFSETFROM:-0700
TZOFFSETTO:-0800
TZNAME:PST
DTSTART:20251102T090000
END:STANDARD
BEGIN:DAYLIGHT
TZOFFSETFROM:-0800
TZOFFSETTO:-0700
TZNAME:PDT
DTSTART:20260308T100000
END:DAYLIGHT
BEGIN:STANDARD
TZOFFSETFROM:-0700
TZOFFSETTO:-0800
TZNAME:PST
DTSTART:20261101T090000
END:STANDARD
BEGIN:DAYLIGHT
TZOFFSETFROM:-0800
TZOFFSETTO:-0700
TZNAME:PDT
DTSTART:20270314T100000
END:DAYLIGHT
BEGIN:STANDARD
TZOFFSETFROM:-0700
TZOFFSETTO:-0800
TZNAME:PST
DTSTART:20271107T090000
END:STANDARD
END:VTIMEZONE
BEGIN:VEVENT
DTSTART;TZID=America/Los_Angeles:20260416T100000
DTEND;TZID=America/Los_Angeles:20260416T140000
DTSTAMP:20260421T024403
CREATED:20260304T222206Z
LAST-MODIFIED:20260304T222206Z
UID:21883-1776333600-1776348000@www.uclahealthcareers.org
SUMMARY:Ventura College Spring Career Fair
DESCRIPTION:Join Us at the Ventura College Spring Career Fair.    For details\, schedules\, and more\, Click Here.  Be sure to visit the UCLA Health booth—we look forward to connecting with you!
URL:https://www.uclahealthcareers.org/event/ventura-college-spring-career-fair/
LOCATION:Ventura College\, 4667 Telegraph Rd.\, Ventura\, CA\, 93003\, United States
END:VEVENT
END:VCALENDAR