BEGIN:VCALENDAR
VERSION:2.0
PRODID:-//UCLA Health - ECPv6.15.12.2//NONSGML v1.0//EN
CALSCALE:GREGORIAN
METHOD:PUBLISH
X-WR-CALNAME:UCLA Health
X-ORIGINAL-URL:https://www.uclahealthcareers.org
X-WR-CALDESC:Events for UCLA Health
REFRESH-INTERVAL;VALUE=DURATION:PT1H
X-Robots-Tag:noindex
X-PUBLISHED-TTL:PT1H
BEGIN:VTIMEZONE
TZID:America/Los_Angeles
BEGIN:DAYLIGHT
TZOFFSETFROM:-0800
TZOFFSETTO:-0700
TZNAME:PDT
DTSTART:20250309T100000
END:DAYLIGHT
BEGIN:STANDARD
TZOFFSETFROM:-0700
TZOFFSETTO:-0800
TZNAME:PST
DTSTART:20251102T090000
END:STANDARD
BEGIN:DAYLIGHT
TZOFFSETFROM:-0800
TZOFFSETTO:-0700
TZNAME:PDT
DTSTART:20260308T100000
END:DAYLIGHT
BEGIN:STANDARD
TZOFFSETFROM:-0700
TZOFFSETTO:-0800
TZNAME:PST
DTSTART:20261101T090000
END:STANDARD
BEGIN:DAYLIGHT
TZOFFSETFROM:-0800
TZOFFSETTO:-0700
TZNAME:PDT
DTSTART:20270314T100000
END:DAYLIGHT
BEGIN:STANDARD
TZOFFSETFROM:-0700
TZOFFSETTO:-0800
TZNAME:PST
DTSTART:20271107T090000
END:STANDARD
END:VTIMEZONE
BEGIN:VEVENT
DTSTART;TZID=America/Los_Angeles:20260314T080000
DTEND;TZID=America/Los_Angeles:20260314T170000
DTSTAMP:20260421T072907
CREATED:20260114T172446Z
LAST-MODIFIED:20260114T172446Z
UID:21694-1773475200-1773507600@www.uclahealthcareers.org
SUMMARY:22nd Annual ACMA Case Management and Transitions of Care Conference – Southern California
DESCRIPTION:Join Us at the 22nd Annual ACMA Case Management and Transitions of Care Conference – Southern California   Connect with case management and transitions‑of‑care professionals at the 22nd Annual ACMA Southern California Chapter Conference. This one‑day event brings together nurses\, social workers\, physicians\, health plan professionals\, and students for education\, networking\, and actionable strategies designed to improve patient outcomes across the care continuum.  For details\, schedules\, and more\, Click Here.  Be sure to visit the UCLA Health booth—we look forward to connecting with you!
URL:https://www.uclahealthcareers.org/event/22nd-annual-acma-case-management-and-transitions-of-care-conference-southern-california/
LOCATION:Pechanga Resort Casino\, 45000 Pechanga Pkwy\, Temecula\, CA\, 92592\, United States
END:VEVENT
END:VCALENDAR